BEGIN:VCALENDAR
VERSION:2.0
PRODID:-//eventon.com NONSGML v1.0//EN
CALSCALE:GREGORIAN
METHOD:PUBLISH
BEGIN:VEVENT
UID:69e9c36609b81
DTSTAMP:20260423T065950Z
DTSTART:20250202T180000Z
DTEND:20250202T190000Z
LOCATION:GracePoint Community Church 90 E Orchard Rd
SUMMARY:1st Sunday Prayer
DESCRIPTION:We are called to pray! Every first Sunday\,  gather with us for
  an hour of prayer starting at 11 am.\nhttps://gracepointcc.org/events/1st-
 sunday-prayer/
URL:https://gracepointcc.org/events/1st-sunday-prayer/
END:VEVENT
END:VCALENDAR